BEGIN:VCALENDAR
VERSION:2.0
PRODID:-//The Barefoot Dragonfly - ECPv6.15.18//NONSGML v1.0//EN
CALSCALE:GREGORIAN
METHOD:PUBLISH
X-WR-CALNAME:The Barefoot Dragonfly
X-ORIGINAL-URL:https://www.thebarefootdragonfly.com
X-WR-CALDESC:Events for The Barefoot Dragonfly
REFRESH-INTERVAL;VALUE=DURATION:PT1H
X-Robots-Tag:noindex
X-PUBLISHED-TTL:PT1H
BEGIN:VTIMEZONE
TZID:America/Chicago
BEGIN:DAYLIGHT
TZOFFSETFROM:-0600
TZOFFSETTO:-0500
TZNAME:CDT
DTSTART:20230312T080000
END:DAYLIGHT
BEGIN:STANDARD
TZOFFSETFROM:-0500
TZOFFSETTO:-0600
TZNAME:CST
DTSTART:20231105T070000
END:STANDARD
BEGIN:DAYLIGHT
TZOFFSETFROM:-0600
TZOFFSETTO:-0500
TZNAME:CDT
DTSTART:20240310T080000
END:DAYLIGHT
BEGIN:STANDARD
TZOFFSETFROM:-0500
TZOFFSETTO:-0600
TZNAME:CST
DTSTART:20241103T070000
END:STANDARD
BEGIN:DAYLIGHT
TZOFFSETFROM:-0600
TZOFFSETTO:-0500
TZNAME:CDT
DTSTART:20250309T080000
END:DAYLIGHT
BEGIN:STANDARD
TZOFFSETFROM:-0500
TZOFFSETTO:-0600
TZNAME:CST
DTSTART:20251102T070000
END:STANDARD
BEGIN:DAYLIGHT
TZOFFSETFROM:-0600
TZOFFSETTO:-0500
TZNAME:CDT
DTSTART:20260308T080000
END:DAYLIGHT
BEGIN:STANDARD
TZOFFSETFROM:-0500
TZOFFSETTO:-0600
TZNAME:CST
DTSTART:20261101T070000
END:STANDARD
END:VTIMEZONE
BEGIN:VEVENT
DTSTART;TZID=America/Chicago:20241030T080000
DTEND;TZID=America/Chicago:20250215T170000
DTSTAMP:20260422T172856
CREATED:20240209T172127Z
LAST-MODIFIED:20241022T180857Z
UID:5824-1730275200-1739638800@www.thebarefootdragonfly.com
SUMMARY:Intermediate Reflexology Course - Level Two
DESCRIPTION:Anatomy\, Physiology\, and Pathology for the Reflexology Practitioner\n\nThe Intermediate Reflexology course includes two learning units – 201 and 202 – with 24 hours of lecture and 24 hours of practicum in each unit. Coursework is aimed at exploring body systems through a whole-person lens and practicums are designed to help us apply our theoretical understandings of these systems on the reflex maps of the feet. \nWhen: Wednesday\, October 30th\, 2024 through Saturday\, February 15th\, 2025\nWhere: Online and in the Austin\, Texas studio\nRegister: Registration is $1\,200 through the Student Portal\nPrerequisite: Foundations in Reflexology or equivalent 48 hour coursework \n201 Body through Respiratory Systems – 48 hours\nThis unit has six lectures covering the following topics: \n\nThe Body – Anatomy and physiology begins with an understanding of the human body in terms that are relatable and easy to understand.\nThe Skeletal System – Bones are the framework of our body house – offering support\, protection\, shape\, and movement\, as well as mineral homeostasis.\nThe Muscular System – Muscles create movement for the bones and joints of the body as well as internal organs like the digestive tract.\nThe Nervous System – The nervous system picks up on what’s happening inside and outside the body and integrates this information to form a response.\nThe Endocrine System – The chemical messaging system of the body regulates many functions ranging from how deep tonight’s sleep will be to how tall you grew.\nThe Respiratory System – Respiration is the exchange of oxygen and carbon dioxide through inhalation and exhalation.\n\nThese lectures are delivered live via Zoom and are recorded for participants who cannot attend the live lesson. \nZoom lectures are scheduled as follows (all times in Central Time Zone): \n\nWednesday\, October 30th\, 8am-12pm\nTuesday\, November 5th\, 8am-12pm\nTuesday\, November 12th\, 8am-12pm\nTuesday\, November 19th\, 8am-12pm\nTuesday\, November 26th\, 8am-12pm\nTuesday\, December 3rd\, 8am-12pm\n\nFollowing the Zoom lectures are three days of in-person practicum offered in the Austin\, Texas studio. Practicum dates are scheduled as follows (all times in Central Time Zone): \n\nThursday\, December 5th\, 9am-5pm\nFriday\, December 6th\, 9am-5pm\nSaturday\, December 7th\, 9am-5pm\n\nDay One:\n\nObserving the Feet – partnering with a classmate\, we’ll explore skin hydration and tone and general nail health\, then review the body systems reflected on the feet;\nSOAP Notes – partnering with a classmate\, we’ll practice documenting our observations;\nNervous System Practice – partnering with a classmate\, we’ll practice a routine for the central and peripheral nervous system reflexes.\n\nDay Two:\n\nGait Analysis – we’ll review gait analysis and practice observing classmate’s gaits for stress cues;\nReflex Location – we’ll put our theoretical lessons into practice by mapping out the musculoskeletal\, endocrine\, and and respiratory system reflexes on a classmate’s foot;\nMusculoskeletal & Respiratory System Practice – partnering with a classmate\, we’ll practice a protocol for the musculoskeletal & respiratory system reflexes.\n\nDay Three:\n\nEndocrine System Routine – partnering with a classmate\, we’ll practice working the endocrine system simultaneously on both feet;\nForty Minute Foot Routine – we’ll pull together our new techniques and create a ~40 minute enhanced foot reflexology treatment with classmates;\nAreas of Emphasis – armed with a ~40 minute enhanced routine we’ll dip our toes into session planning skills to hone in on areas that need a bit more attention than others.\n\nBy the end of Unit 201 we’ll have a roughly forty minute foot reflexology routine that can easily be expanded to a full hour. \n202 Cardiovascular through Special Senses Systems – 48 hours\nTopics for each lecture are as follows: \n\nThe Cardiovascular System – A 6\,000+ mile network of vessels transports nutrients\, oxygen\, hormones\, and waste products like carbon dioxide and cellular waste around the body.\nThe Lymphatic and Immune System – The lymphatic and immune system is part of our body’s built in maintenance that transports fats and fat-soluble vitamins as well as providing a surveillance and defense mechanism against pathogens.\nThe Digestive System – The digestive system is designed to break down food into usable macro and micro nutrients in order to provide fuel for every cell in the body.\nThe Urinary System – Our built-in water treatment facility\, the Urinary System filters the blood and controls pH\, volume\, composition\, and pressure.\nThe Reproductive System – The reproductive system is unique in that it doesn’t come online until puberty and maintains function until midlife when menopause/manopause bring a decline or halt to proliferative processes in the gonads.\nThe Integumentary System and Special Senses – The skin is the largest organ of the body and is the organ of touch. We’ll also cover sight\, sound\, taste\, and smell.\n\nThese lectures are delivered live via Zoom and are recorded for participants who cannot make the live lesson. \nZoom lectures are scheduled as follows (all times in Central Time Zone): \n\nTuesday\, December 10th\, 8am-12pm\nTuesday\, December 17th\, 8am-12pm\nTuesday\, January 7th\, 8am-12pm\nTuesday\, January 14th\, 8am-12pm\nTuesday\, January 21st\, 8am-12pm\nTuesday\, January 28th\, 8am-12pm\n\nFollowing the Zoom lectures are three days of in-person practicum offered in the Austin\, Texas studio. \nPracticum dates are schedules as follows (all times in Central Time Zone): \n\nThursday\, February 13th\, 9am-5pm\nFriday\, February 14th\, 9am-5pm\nSaturday\, February 15th\, 9am-5pm\n\nThey include: \nDay One:\n\nObserving the Feet – partnering with a classmate\, we’ll explore new the new body systems we covered over lecture;\nSOAP Notes – partnering with a classmate\, we’ll practice documenting our observations;\nCardiovascular Routine – we’ll add to our existing chest region protocols to specifically target reflex locations for cardiovascular system;\nLymphatics – we’ll take some basic measurements of the feet then commence with a lymphatic routine and see if we notice changes in our classmate’s measurements;\nDigestive System Routine – this routine follows the natural flow of food from the mouth to the anus\, with accessory digestive organs;\n\nDay Two:\n\nUrinary System Routine – this routine helps the body remove liquid waste via the urinary bladder;\nReproductive System Routine – further enhancing our work from 201’s practicum routine for the endocrine system we’ll practice positioning for prenatal clients too.\n\nDay Three:\n\nSixty Minute Foot Routine – we’ll pull together our new techniques and create a ~60 minute complete foot reflexology treatment with classmates;\nAreas of Emphasis – armed with a ~60 minute complete routine we’ll practice incorporating areas of emphasis.\n\nSnack and lunch breaks are taken outdoors in the carport\, no food or drink is permitted in the studio. Participants are encouraged to bring a sack lunch and may utilize the refrigerator\, microwave\, and toaster oven in the kitchen. \nRegistration\nTo register\, visit the Intermediate Reflexology Course page on our user portal over on Practice Better. Pay the $792 tuition (in one payment or installments). You will receive a confirmation via email (check your spam folder!) and be automatically added to the course. You can use the contact form to send an email if you have questions or schedule a Student Advising via Zoom with Amy. \nRegistration is open to those who have attended our Foundations in Reflexology or  equivalent 48 hours of reflexology coursework. Seating is available for eight (8) participants working on classmates during the practicum. This level is offered a couple times a year for folks to learn a comprehensive 60 minute foot reflexology treatment protocol to practice on loved ones\, integrate into an existing practice\, or to sit for the ARCB Board Exam and become a board certified foot reflexologist. \nTuition\n$1\,200 for 96 hour Intermediate Reflexology course \nClass Refund Policy\nClass payments are non-refundable\, but may be used towards future classes within a twelve month period if you contact us to withdraw within two weeks (14 days) BEFORE the start of class. If you withdraw with less than two weeks (14 days) from the start of class all payments made are non-refundable or transferrable and any balance owed is still due if your payment plan is not complete. Your tuition covers the cost of a seat in the course\, whether or not you are in attendance. If you have to miss classes we will help you make up the missed material. We know that circumstances change and life challenges come up\, but we cannot make exceptions.
URL:https://www.thebarefootdragonfly.com/event/intermediate-reflexology-course-level-two/
LOCATION:The Barefoot Dragonfly\, 7601 Pheasant Rock Road\, Austin\, TX\, 78729\, United States
CATEGORIES:Reflexology
ATTACH;FMTTYPE=image/jpeg:https://www.thebarefootdragonfly.com/wp-content/uploads/2023/06/Reflexology-Practicum-Banner.jpg
END:VEVENT
END:VCALENDAR